BEGIN:VCALENDAR
VERSION:2.0
PRODID:-//Hundefreunde Schorndorf e.V. - ECPv6.15.20//NONSGML v1.0//EN
CALSCALE:GREGORIAN
METHOD:PUBLISH
X-ORIGINAL-URL:https://hundefreunde-schorndorf.de
X-WR-CALDESC:Veranstaltungen für Hundefreunde Schorndorf e.V.
REFRESH-INTERVAL;VALUE=DURATION:PT1H
X-Robots-Tag:noindex
X-PUBLISHED-TTL:PT1H
BEGIN:VTIMEZONE
TZID:Europe/Berlin
BEGIN:DAYLIGHT
TZOFFSETFROM:+0100
TZOFFSETTO:+0200
TZNAME:CEST
DTSTART:20230326T010000
END:DAYLIGHT
BEGIN:STANDARD
TZOFFSETFROM:+0200
TZOFFSETTO:+0100
TZNAME:CET
DTSTART:20231029T010000
END:STANDARD
BEGIN:DAYLIGHT
TZOFFSETFROM:+0100
TZOFFSETTO:+0200
TZNAME:CEST
DTSTART:20240331T010000
END:DAYLIGHT
BEGIN:STANDARD
TZOFFSETFROM:+0200
TZOFFSETTO:+0100
TZNAME:CET
DTSTART:20241027T010000
END:STANDARD
BEGIN:DAYLIGHT
TZOFFSETFROM:+0100
TZOFFSETTO:+0200
TZNAME:CEST
DTSTART:20250330T010000
END:DAYLIGHT
BEGIN:STANDARD
TZOFFSETFROM:+0200
TZOFFSETTO:+0100
TZNAME:CET
DTSTART:20251026T010000
END:STANDARD
END:VTIMEZONE
BEGIN:VEVENT
DTSTART;TZID=Europe/Berlin:20240629T100000
DTEND;TZID=Europe/Berlin:20240629T170000
DTSTAMP:20260422T231453
CREATED:20240618T132027Z
LAST-MODIFIED:20240618T134656Z
UID:1015-1719655200-1719680400@hundefreunde-schorndorf.de
SUMMARY:SWHV Team - Test
DESCRIPTION:Wo?\nHundeplatz beim Dehner\, Krähe 9 \nRichter:\nOliver Bihl \nPrüfungsleiterin:\nBeate Harder \nGebühr pro Hund:\nMitglieder 20 Euro / Nicht- Mitglieder 30 Euro \nFür den Team-Test suchen wir fleißige Helfer*innen.\nAm Freitag\, den 28.6. ab 17 Uhr werden die Zelte und Tische auf dem Hundeplatz aufgebaut sowie alles weitere für die Prüfung vorbereitet. \nAm Samstag\, den 29.06.2024 ab 10 Uhr brauchen wir eine Menschengruppe\, Jogger\, Radfahrer\, Autofahrer\, Ballspieler*innen usw.! \nWer uns unterstützen kann darf sich per Mail an info@hundefreunde-schorndorf.de wenden.
URL:https://hundefreunde-schorndorf.de/termin/swhv-team-test/
CATEGORIES:Prüfung
END:VEVENT
END:VCALENDAR