BEGIN:VCALENDAR
VERSION:2.0
PRODID:-//Hundefreunde Schorndorf e.V. - ECPv6.15.20//NONSGML v1.0//EN
CALSCALE:GREGORIAN
METHOD:PUBLISH
X-ORIGINAL-URL:https://hundefreunde-schorndorf.de
X-WR-CALDESC:Veranstaltungen für Hundefreunde Schorndorf e.V.
REFRESH-INTERVAL;VALUE=DURATION:PT1H
X-Robots-Tag:noindex
X-PUBLISHED-TTL:PT1H
BEGIN:VTIMEZONE
TZID:Europe/Berlin
BEGIN:DAYLIGHT
TZOFFSETFROM:+0100
TZOFFSETTO:+0200
TZNAME:CEST
DTSTART:20230326T010000
END:DAYLIGHT
BEGIN:STANDARD
TZOFFSETFROM:+0200
TZOFFSETTO:+0100
TZNAME:CET
DTSTART:20231029T010000
END:STANDARD
BEGIN:DAYLIGHT
TZOFFSETFROM:+0100
TZOFFSETTO:+0200
TZNAME:CEST
DTSTART:20240331T010000
END:DAYLIGHT
BEGIN:STANDARD
TZOFFSETFROM:+0200
TZOFFSETTO:+0100
TZNAME:CET
DTSTART:20241027T010000
END:STANDARD
BEGIN:DAYLIGHT
TZOFFSETFROM:+0100
TZOFFSETTO:+0200
TZNAME:CEST
DTSTART:20250330T010000
END:DAYLIGHT
BEGIN:STANDARD
TZOFFSETFROM:+0200
TZOFFSETTO:+0100
TZNAME:CET
DTSTART:20251026T010000
END:STANDARD
END:VTIMEZONE
BEGIN:VEVENT
DTSTART;TZID=Europe/Berlin:20240712T100000
DTEND;TZID=Europe/Berlin:20240712T120000
DTSTAMP:20260422T204530
CREATED:20240630T162521Z
LAST-MODIFIED:20240630T162521Z
UID:1057-1720778400-1720785600@hundefreunde-schorndorf.de
SUMMARY:Besuchshunde in Berglen
DESCRIPTION:Am Freitag\, den 12. Juli 2024 von 10-12 Uhr findet unsere ehrenamtliche Veranstaltung für Schüler zur Aufklärung im Umgang mit dem Hund\, zusammen mit unseren ausbildeten Besuchshunden bei den Zweitklässlern der Grundschule in Berglen statt.
URL:https://hundefreunde-schorndorf.de/termin/besuchshunde-in-berglen/
END:VEVENT
END:VCALENDAR