BEGIN:VCALENDAR
VERSION:2.0
PRODID:-//Hundefreunde Schorndorf e.V. - ECPv6.15.20//NONSGML v1.0//EN
CALSCALE:GREGORIAN
METHOD:PUBLISH
X-WR-CALNAME:Hundefreunde Schorndorf e.V.
X-ORIGINAL-URL:https://hundefreunde-schorndorf.de
X-WR-CALDESC:Veranstaltungen für Hundefreunde Schorndorf e.V.
REFRESH-INTERVAL;VALUE=DURATION:PT1H
X-Robots-Tag:noindex
X-PUBLISHED-TTL:PT1H
BEGIN:VTIMEZONE
TZID:Europe/Berlin
BEGIN:DAYLIGHT
TZOFFSETFROM:+0100
TZOFFSETTO:+0200
TZNAME:CEST
DTSTART:20230326T010000
END:DAYLIGHT
BEGIN:STANDARD
TZOFFSETFROM:+0200
TZOFFSETTO:+0100
TZNAME:CET
DTSTART:20231029T010000
END:STANDARD
BEGIN:DAYLIGHT
TZOFFSETFROM:+0100
TZOFFSETTO:+0200
TZNAME:CEST
DTSTART:20240331T010000
END:DAYLIGHT
BEGIN:STANDARD
TZOFFSETFROM:+0200
TZOFFSETTO:+0100
TZNAME:CET
DTSTART:20241027T010000
END:STANDARD
BEGIN:DAYLIGHT
TZOFFSETFROM:+0100
TZOFFSETTO:+0200
TZNAME:CEST
DTSTART:20250330T010000
END:DAYLIGHT
BEGIN:STANDARD
TZOFFSETFROM:+0200
TZOFFSETTO:+0100
TZNAME:CET
DTSTART:20251026T010000
END:STANDARD
END:VTIMEZONE
BEGIN:VEVENT
DTSTART;TZID=Europe/Berlin:20240809T150000
DTEND;TZID=Europe/Berlin:20240809T170000
DTSTAMP:20260424T102549
CREATED:20240618T133606Z
LAST-MODIFIED:20240618T133928Z
UID:1019-1723215600-1723222800@hundefreunde-schorndorf.de
SUMMARY:Besuchshunde im Einsatz - Freunde auf 4 Pfoten
DESCRIPTION:Wann?\nFreitag\, den 9. August 2024 von 15 -17 Uhr. \nWo?\nBetreutes Wohnen im Eulenhöfle in Murrhardt – Link \nWarum?\nFür Senioren und auch Pflegebedürftige spielt der Kontakt mit unseren Besuchshunden eine bedeutende Rolle.\nUnsere Besuchshunde tragen nicht nur zur Auflockerung des Alltags bei\, sondern haben auch nachweislich positive Effekte auf das körperliche\, geistige und emotionale Wohlbefinden der Heimbewohner! \nWer ist dabei?\nWer einen ausgebildeten Besuchshund besitzt und am 9.8.24 um 15 Uhr Zeit hat\, darf sich bei der Ausbildungsleitung Rose Lehrer per E-Mail zum ehrenamtlichen Einsatz anmelden!
URL:https://hundefreunde-schorndorf.de/termin/besuchshunde-im-einsatz-freunde-auf-4-pfoten/
END:VEVENT
BEGIN:VEVENT
DTSTART;TZID=Europe/Berlin:20240823T140000
DTEND;TZID=Europe/Berlin:20240823T170000
DTSTAMP:20260424T102549
CREATED:20240618T135237Z
LAST-MODIFIED:20240618T135237Z
UID:1032-1724421600-1724432400@hundefreunde-schorndorf.de
SUMMARY:Schülerferienprogramm
DESCRIPTION:Am Freitag\, den 23. August 2024 findet von 14 -17 Uhr unser alljährliches Schülerferienprogramm\, unter dem Motto: ” Ein erlebnisreicher Nachmittag mit Hunden”\, für die daheim geblieben Kinder (7-12 J.) beim Jugendhaus in Schorndorf statt. \nProgramm:\n– 14:00 Uhr Empfang der Kinder direkt auf dem Jugendhaus-Gelände in Schorndorf \n– 14:15 Uhr Aufklärung im richtigen Umgang mit dem Hund\, Hunde-Streicheln\, Hunde-Quiz \n– 15.30 Uhr Hunde- und Kinderparcours\n– 16.00 Uhr Grillen / Getränke- und Essensausgabe\n– 16.15 Uhr Hundevorführungen Longieren (mit Tunnel und Sprüngen) Dogdance und Formation.\n– 17:00 Uhr Verabschiedung der Kids\, mit Geschenken + Urkundenübergabe. \nFür die Schorndorfer Schüler ist eine Ferienprogramm-Anmeldung nur bei der Stadt Schorndorf ONLINE möglich. \nHundefreunde-Mitglieder können das Anmeldeformular bei Rosemarie Lehrer für ihre KIDS per E-Mail anfordern und die ausgefüllte Anmeldung bis spätestens 3. August 2024 zurücksenden. \nAlle Hunde welche bei den Vorführungen (Formation/Trickdogging usw.) dabei sein möchten\, sollen sich bei Rosemarie Lehrer per E-Mail anmelden. \nFreundliche Helfer*innen sind bei allen Hundefreunde-Aktivitäten/Veranstaltungen immer herzlich willkommen. Vorab jedoch per E-Mail bei info@hundefreunde-schorndorf.de anmelden!
URL:https://hundefreunde-schorndorf.de/termin/schuelerferienprogramm/
CATEGORIES:Jugend
END:VEVENT
BEGIN:VEVENT
DTSTART;TZID=Europe/Berlin:20240831T100000
DTEND;TZID=Europe/Berlin:20240831T170000
DTSTAMP:20260424T102549
CREATED:20240618T134428Z
LAST-MODIFIED:20240805T055858Z
UID:1025-1725098400-1725123600@hundefreunde-schorndorf.de
SUMMARY:Begleithundeprüfung/Team-Test
DESCRIPTION:Wann?\nSamstag\, den 31. August um 10 Uhr \nLeistungsrichter:\nHerr Harold Marquardt \nPrüfungsleitung:\nRosemarie Lehrer \nTreffpunkt:\nHundeplatz in Schorndorf \nPrüfungsgebühren:\nTeam-Test oder Begleithundeprüfung – Prüfungsgebühr für Mitglieder 20 Euro.\nTeam-Test für Nicht-Mitgleider – Prüfungsgebühr 30 Euro \nVorbereitung:\nTeam-Test- und BH-Prüfungsvorbereitung findet für Mitglieder ab dem 3.8.2024 jeden Samstag um 18 Uhr auf dem Hundeplatz in Schorndorf unter der Leitung von Rose Lehrer statt. \nAnmeldung per E-Mail an info@hundefreunde-schorndorf.de senden. \nTeilnehmerzahl ist auf 12 Hunde begrenzt
URL:https://hundefreunde-schorndorf.de/termin/begleithundepruefung-team-test/
END:VEVENT
END:VCALENDAR