BEGIN:VCALENDAR
VERSION:2.0
PRODID:-//Hundefreunde Schorndorf e.V. - ECPv6.15.20//NONSGML v1.0//EN
CALSCALE:GREGORIAN
METHOD:PUBLISH
X-ORIGINAL-URL:https://hundefreunde-schorndorf.de
X-WR-CALDESC:Veranstaltungen für Hundefreunde Schorndorf e.V.
REFRESH-INTERVAL;VALUE=DURATION:PT1H
X-Robots-Tag:noindex
X-PUBLISHED-TTL:PT1H
BEGIN:VTIMEZONE
TZID:Europe/Berlin
BEGIN:DAYLIGHT
TZOFFSETFROM:+0100
TZOFFSETTO:+0200
TZNAME:CEST
DTSTART:20230326T010000
END:DAYLIGHT
BEGIN:STANDARD
TZOFFSETFROM:+0200
TZOFFSETTO:+0100
TZNAME:CET
DTSTART:20231029T010000
END:STANDARD
BEGIN:DAYLIGHT
TZOFFSETFROM:+0100
TZOFFSETTO:+0200
TZNAME:CEST
DTSTART:20240331T010000
END:DAYLIGHT
BEGIN:STANDARD
TZOFFSETFROM:+0200
TZOFFSETTO:+0100
TZNAME:CET
DTSTART:20241027T010000
END:STANDARD
BEGIN:DAYLIGHT
TZOFFSETFROM:+0100
TZOFFSETTO:+0200
TZNAME:CEST
DTSTART:20250330T010000
END:DAYLIGHT
BEGIN:STANDARD
TZOFFSETFROM:+0200
TZOFFSETTO:+0100
TZNAME:CET
DTSTART:20251026T010000
END:STANDARD
END:VTIMEZONE
BEGIN:VEVENT
DTSTART;TZID=Europe/Berlin:20241024T193000
DTEND;TZID=Europe/Berlin:20241024T210000
DTSTAMP:20260422T150437
CREATED:20240618T133317Z
LAST-MODIFIED:20240618T134604Z
UID:1017-1729798200-1729803600@hundefreunde-schorndorf.de
SUMMARY:Erste Hilfe am Hund
DESCRIPTION:Einladung zum Themenabend „Erste Hilfe beim Hund“ …ist lebensrettend! \nDer Vortrag findet am Donnerstag\, den 24. Oktober 2024 um 19:30 Uhr in Schorndorf statt. Die Referentin Frau Dr. vet. Julia Schäfer wird uns erklären und zeigen was bei einem tierischen Notfall zu tun ist. \nFolgende Themen werden behandelt:\n– Normwerte unserer Hunde (Atmung\, Herzfrequenz\, Schleimhautfarbe\, Körperinnentemperatur\, Kapillarerückfüllungszeit\, etc.)\n– Selbstschutz\, Fixierung und Sicherung des Hundes\n– Lagerung des Hundes\n– Was braucht man in der Notfallapotheke\n– Sofortmaßnahmen im Notfall\n– Versorgung kleinerer Wunden\n– Anlegen von Verbänden\n– Was tun bei Insektenstichen\, Vergiftungen\, Fremdkörpern in Augen\, Ohren oder Maulhöhle \nDie Teilnehmerzahl ist begrenzt.\nGebühr pro Person 20 Euro für Mitglieder / 25 Euro für NICHT – Mitglieder \nAnmeldung sowie Kontodaten zur Überweisung und den Treffpunkt bitte per E-Mail bei  info@hundefreunde-schorndorf.de anfragen. \nDie kompletten Einnahmen spendet die Praxis Dr. vet. Jochen Schäfer dem Verein der Hundefreunde Schorndorf e.V.. Herzlichen Dank dafür!
URL:https://hundefreunde-schorndorf.de/termin/erste-hilfe-am-hund/
CATEGORIES:Vortrag
END:VEVENT
END:VCALENDAR