BEGIN:VCALENDAR
VERSION:2.0
PRODID:-//Hundefreunde Schorndorf e.V. - ECPv6.15.20//NONSGML v1.0//EN
CALSCALE:GREGORIAN
METHOD:PUBLISH
X-WR-CALNAME:Hundefreunde Schorndorf e.V.
X-ORIGINAL-URL:https://hundefreunde-schorndorf.de
X-WR-CALDESC:Veranstaltungen für Hundefreunde Schorndorf e.V.
REFRESH-INTERVAL;VALUE=DURATION:PT1H
X-Robots-Tag:noindex
X-PUBLISHED-TTL:PT1H
BEGIN:VTIMEZONE
TZID:Europe/Berlin
BEGIN:DAYLIGHT
TZOFFSETFROM:+0100
TZOFFSETTO:+0200
TZNAME:CEST
DTSTART:20230326T010000
END:DAYLIGHT
BEGIN:STANDARD
TZOFFSETFROM:+0200
TZOFFSETTO:+0100
TZNAME:CET
DTSTART:20231029T010000
END:STANDARD
BEGIN:DAYLIGHT
TZOFFSETFROM:+0100
TZOFFSETTO:+0200
TZNAME:CEST
DTSTART:20240331T010000
END:DAYLIGHT
BEGIN:STANDARD
TZOFFSETFROM:+0200
TZOFFSETTO:+0100
TZNAME:CET
DTSTART:20241027T010000
END:STANDARD
BEGIN:DAYLIGHT
TZOFFSETFROM:+0100
TZOFFSETTO:+0200
TZNAME:CEST
DTSTART:20250330T010000
END:DAYLIGHT
BEGIN:STANDARD
TZOFFSETFROM:+0200
TZOFFSETTO:+0100
TZNAME:CET
DTSTART:20251026T010000
END:STANDARD
END:VTIMEZONE
BEGIN:VEVENT
DTSTART;VALUE=DATE:20241208
DTEND;VALUE=DATE:20241209
DTSTAMP:20260422T115609
CREATED:20240618T134936Z
LAST-MODIFIED:20241021T022822Z
UID:1030-1733616000-1733702399@hundefreunde-schorndorf.de
SUMMARY:Wichtel–Weihnachtsfeier
DESCRIPTION:Einladung für alle Zwei – und Vierbeiner zur Hunde-Wichtel – Weihnachtsfeier am Sonntag\, den 8. Dezember 2024 auf dem Hundeplatz in Schorndorf \nProgramm:\n– Ab 14 Uhr gibt es kostenfreien Glühwein\, Kinder-Punsch und Kaffee für alle\, so lange der Vorrat reicht! Der Umwelt zu liebe\, sollte bitte jeder eine eigene Tasse mitbringen.\n– Damit wir Weihnachtsgebäck\, Kuchen\, Plätzchen und andere Knabbereien genießen können brauchen wir fleißige Bäcker. Bitte Info an Rose Lehrer wer was mitbringen. Vielen Dank im Voraus! \n– Um 15 Uhr beginnen die Hunde-Vorführungen (Formation\, Dogdance\, Longieren usw.). Wer von euch gern mit seinem Hundi bei den Vorführungen dabei sein möchte\, sollte sich bitte bei Rose Lehrer per E-Mail melden.\n– Nach den Hunde-Vorführungen werden die Hundewichtel-Geschenke an alle Hunde verteilt. Dazu sollte jeder Hundeführer ein Hunde-Wichtelgeschenk im Wert von ca. 5\,00 Euro mitbringen. Das Geschenk dürft ihr bei der Ankunft beim Nikolaus abgeben. Für das mitgebrachte Wichtelgeschenk\, darf dann euer Hund ein anderes Hunde-Wichtelgeschenk am Ende der Hund – Wichtel Weihnachtsfeier aussuchen. \nHallo Kids\, aufgepasst! Auch für euch gibt es noch ein Geschenke vom Nikolaus.\n– Bitte bis spätestens 1. Advent die Kinder mit Altersangabe\, wegen dem Nikolausgeschenk bei info@hundefreunde-schorndorf.de anmelden.\n– Wegen der Planung bitte auch die Erwachsenen inklusive Hunden anmelden. \nAuch freundliche Helfer zum Auf- und Abbau des Zelts und Biertischgarnituren sind immer willkommen!
URL:https://hundefreunde-schorndorf.de/termin/wichtel-weihnachtsfeier/
CATEGORIES:Fest
END:VEVENT
END:VCALENDAR